BEGIN:VCALENDAR
VERSION:2.0
PRODID:-//Die Gl&auml;sner-Band - ECPv6.15.20//NONSGML v1.0//EN
CALSCALE:GREGORIAN
METHOD:PUBLISH
X-WR-CALNAME:Die Gl&auml;sner-Band
X-ORIGINAL-URL:https://www.glaesner-band.de
X-WR-CALDESC:Veranstaltungen für Die Gl&auml;sner-Band
REFRESH-INTERVAL;VALUE=DURATION:PT1H
X-Robots-Tag:noindex
X-PUBLISHED-TTL:PT1H
BEGIN:VTIMEZONE
TZID:Europe/Berlin
BEGIN:DAYLIGHT
TZOFFSETFROM:+0100
TZOFFSETTO:+0200
TZNAME:CEST
DTSTART:20250330T010000
END:DAYLIGHT
BEGIN:STANDARD
TZOFFSETFROM:+0200
TZOFFSETTO:+0100
TZNAME:CET
DTSTART:20251026T010000
END:STANDARD
BEGIN:DAYLIGHT
TZOFFSETFROM:+0100
TZOFFSETTO:+0200
TZNAME:CEST
DTSTART:20260329T010000
END:DAYLIGHT
BEGIN:STANDARD
TZOFFSETFROM:+0200
TZOFFSETTO:+0100
TZNAME:CET
DTSTART:20261025T010000
END:STANDARD
BEGIN:DAYLIGHT
TZOFFSETFROM:+0100
TZOFFSETTO:+0200
TZNAME:CEST
DTSTART:20270328T010000
END:DAYLIGHT
BEGIN:STANDARD
TZOFFSETFROM:+0200
TZOFFSETTO:+0100
TZNAME:CET
DTSTART:20271031T010000
END:STANDARD
END:VTIMEZONE
BEGIN:VEVENT
DTSTART;TZID=Europe/Berlin:20261101T100000
DTEND;TZID=Europe/Berlin:20261101T110000
DTSTAMP:20260422T123301
CREATED:20251102T090000Z
LAST-MODIFIED:20251029T105937Z
UID:4447-1793527200-1793530800@www.glaesner-band.de
SUMMARY:1. Sonntag im Nov. 26 - Gottesdienst mit der Gläsner-Band
DESCRIPTION:Gottes­dienst\, musi­ka­lisch beglei­tet durch die Gläs­ner-Band.
URL:https://www.glaesner-band.de/termindetails/1-sonntag-im-nov-26-gottesdienst-mit-der-glaesner-band/
LOCATION:Paulus­kir­che Sankt Augus­tin\, An den Drei Eichen 2\, Sankt Augustin\, Nordrhein-Westfalen\, 53757\, Germany
CATEGORIES:Ev. Augustin-Hangelar,Gottesdienste (Aug-Hang),Pauluskirche
ATTACH;FMTTYPE=image/png:https://www.glaesner-band.de/wp-content/uploads/2025/08/Bild_Aufbau_Gottesdienst_09.png
ORGANIZER;CN="Ev. Kirchengemeinde St. Augustin und Hangelar":MAILTO:st.augustin-hangelar@ekir.de
END:VEVENT
BEGIN:VEVENT
DTSTART;TZID=Europe/Berlin:20261129T000000
DTEND;TZID=Europe/Berlin:20261129T235959
DTSTAMP:20260422T123301
CREATED:20251121T190109Z
LAST-MODIFIED:20251121T190657Z
UID:4550-1795910400-1795996799@www.glaesner-band.de
SUMMARY:Ökum. Open-Air-Gottesdienst Nov. 26 mit der Gläsner-Band
DESCRIPTION:Geplant ist\, dass es auch dieses Jahr ein ökume­ni­scher Open-Air-Gottes­dienst im Garten der Stey­ler Missio­na­re statt­fin­den soll. Anschlie­ßend gibt es die Möglich­keit\, nach dem Gottes­dienst die Viel­falt des dort statt­fin­den­den Weih­nachts­mark­tes zu erkun­den. \nMusi­ka­lisch beglei­tet wird der Gottes­dienst von der Gläs­ner-Band. \nIm Rahmen der “Die Gläs­ner-Band and Friends” unter­stützt uns: \n\nGesang\n\nWird noch bekannt gege­ben\n\n\n\nDie genaue Uhrzeit\, wann der Gottes­dienst beginnt\, wird nach­ge­tra­gen\, sobald diese Infor­ma­ti­on vorliegt!
URL:https://www.glaesner-band.de/termindetails/oekum-open-air-gottesdienst-nov-26-mit-der-glaesner-band/
LOCATION:Stey­ler Missio­na­re e.V.\, Arnold-Janssen-Strasse 30\, Sankt Augustin\, Nordrhein-Westfalen\, 53757\, Germany
CATEGORIES:Ev. Augustin-Hangelar,Gottesdienste (Aug-Hang),Open-Air (Aug-Hang)
ATTACH;FMTTYPE=image/png:https://www.glaesner-band.de/wp-content/uploads/2025/10/Bild_Weihnachtsmarkt_Steyler_Missionare.png
ORGANIZER;CN="Initiative Weihnachtsmarkt Sankt Augustin-Ort":MAILTO:postmaster@weihnachtsmarkt-sankt-augustin.de
END:VEVENT
END:VCALENDAR