BEGIN:VCALENDAR
VERSION:2.0
PRODID:-//Die Gl&auml;sner-Band - ECPv6.15.20//NONSGML v1.0//EN
CALSCALE:GREGORIAN
METHOD:PUBLISH
X-ORIGINAL-URL:https://www.glaesner-band.de
X-WR-CALDESC:Veranstaltungen für Die Gl&auml;sner-Band
REFRESH-INTERVAL;VALUE=DURATION:PT1H
X-Robots-Tag:noindex
X-PUBLISHED-TTL:PT1H
BEGIN:VTIMEZONE
TZID:Europe/Berlin
BEGIN:DAYLIGHT
TZOFFSETFROM:+0100
TZOFFSETTO:+0200
TZNAME:CEST
DTSTART:20250330T010000
END:DAYLIGHT
BEGIN:STANDARD
TZOFFSETFROM:+0200
TZOFFSETTO:+0100
TZNAME:CET
DTSTART:20251026T010000
END:STANDARD
BEGIN:DAYLIGHT
TZOFFSETFROM:+0100
TZOFFSETTO:+0200
TZNAME:CEST
DTSTART:20260329T010000
END:DAYLIGHT
BEGIN:STANDARD
TZOFFSETFROM:+0200
TZOFFSETTO:+0100
TZNAME:CET
DTSTART:20261025T010000
END:STANDARD
BEGIN:DAYLIGHT
TZOFFSETFROM:+0100
TZOFFSETTO:+0200
TZNAME:CEST
DTSTART:20270328T010000
END:DAYLIGHT
BEGIN:STANDARD
TZOFFSETFROM:+0200
TZOFFSETTO:+0100
TZNAME:CET
DTSTART:20271031T010000
END:STANDARD
END:VTIMEZONE
BEGIN:VEVENT
DTSTART;TZID=Europe/Berlin:20260906T100000
DTEND;TZID=Europe/Berlin:20260906T110000
DTSTAMP:20260420T090138
CREATED:20251102T090000Z
LAST-MODIFIED:20251029T105900Z
UID:4439-1788688800-1788692400@www.glaesner-band.de
SUMMARY:1. Sonntag im Sep. 26 - Gottesdienst mit der Gläsner-Band
DESCRIPTION:Gottes­dienst\, musi­ka­lisch beglei­tet durch die Gläs­ner-Band.
URL:https://www.glaesner-band.de/termindetails/1-sonntag-im-sep-26-gottesdienst-mit-der-glaesner-band/
LOCATION:Paulus­kir­che Sankt Augus­tin\, An den Drei Eichen 2\, Sankt Augustin\, Nordrhein-Westfalen\, 53757\, Germany
CATEGORIES:Ev. Augustin-Hangelar,Gottesdienste (Aug-Hang),Pauluskirche
ATTACH;FMTTYPE=image/png:https://www.glaesner-band.de/wp-content/uploads/2025/04/Bild_Aufbau_Gottesdienst_06.png
ORGANIZER;CN="Ev. Kirchengemeinde St. Augustin und Hangelar":MAILTO:st.augustin-hangelar@ekir.de
END:VEVENT
BEGIN:VEVENT
DTSTART;TZID=Europe/Berlin:20260927T100000
DTEND;TZID=Europe/Berlin:20260927T110000
DTSTAMP:20260420T090138
CREATED:20251102T090000Z
LAST-MODIFIED:20251121T185434Z
UID:4441-1790503200-1790506800@www.glaesner-band.de
SUMMARY:Open-Air-Gottesdienst Okt. 26 mit der Gläsner-Band
DESCRIPTION:Open-Air-Gottes­dienst unter der musi­ka­li­schen Beglei­tung der Gläs­ner-Band.
URL:https://www.glaesner-band.de/termindetails/open-air-gottesdienst-okt-26-mit-der-glaesner-band/
LOCATION:Chris­tus­kir­che Sankt Augus­tin Hangelar\, An der Evangelischen Kirche 1-3\, Sankt Augustin\, Nordrhein-Westfalen\, 53757\, Germany
CATEGORIES:Christuskirche,Ev. Augustin-Hangelar,Gottesdienste (Aug-Hang),Open-Air (Aug-Hang)
ATTACH;FMTTYPE=image/png:https://www.glaesner-band.de/wp-content/uploads/2025/04/Bild_Aufbau_Gottesdienst_07.png
ORGANIZER;CN="Ev. Kirchengemeinde St. Augustin und Hangelar":MAILTO:st.augustin-hangelar@ekir.de
END:VEVENT
END:VCALENDAR