BEGIN:VCALENDAR
VERSION:2.0
PRODID:-//Die Gl&auml;sner-Band - ECPv6.15.20//NONSGML v1.0//EN
CALSCALE:GREGORIAN
METHOD:PUBLISH
X-ORIGINAL-URL:https://www.glaesner-band.de
X-WR-CALDESC:Veranstaltungen für Die Gl&auml;sner-Band
REFRESH-INTERVAL;VALUE=DURATION:PT1H
X-Robots-Tag:noindex
X-PUBLISHED-TTL:PT1H
BEGIN:VTIMEZONE
TZID:Europe/Berlin
BEGIN:DAYLIGHT
TZOFFSETFROM:+0100
TZOFFSETTO:+0200
TZNAME:CEST
DTSTART:20240331T010000
END:DAYLIGHT
BEGIN:STANDARD
TZOFFSETFROM:+0200
TZOFFSETTO:+0100
TZNAME:CET
DTSTART:20241027T010000
END:STANDARD
BEGIN:DAYLIGHT
TZOFFSETFROM:+0100
TZOFFSETTO:+0200
TZNAME:CEST
DTSTART:20250330T010000
END:DAYLIGHT
BEGIN:STANDARD
TZOFFSETFROM:+0200
TZOFFSETTO:+0100
TZNAME:CET
DTSTART:20251026T010000
END:STANDARD
BEGIN:DAYLIGHT
TZOFFSETFROM:+0100
TZOFFSETTO:+0200
TZNAME:CEST
DTSTART:20260329T010000
END:DAYLIGHT
BEGIN:STANDARD
TZOFFSETFROM:+0200
TZOFFSETTO:+0100
TZNAME:CET
DTSTART:20261025T010000
END:STANDARD
END:VTIMEZONE
BEGIN:VEVENT
DTSTART;TZID=Europe/Berlin:20251207T100000
DTEND;TZID=Europe/Berlin:20251207T110000
DTSTAMP:20260420T072133
CREATED:20250302T090000Z
LAST-MODIFIED:20250823T175400Z
UID:2109-1765101600-1765105200@www.glaesner-band.de
SUMMARY:Familiengottesdienst mit der Gläsner-Band
DESCRIPTION:Der Gottes­dienst wird von der Gläs­ner-Band musi­ka­lisch beglei­tet. Anschlie­ßend wird gemein­sam gebruncht.
URL:https://www.glaesner-band.de/termindetails/familiengottesdienst-mit-der-glaesner-band-2/
LOCATION:Paulus­kir­che Sankt Augus­tin\, An den Drei Eichen 2\, Sankt Augustin\, Nordrhein-Westfalen\, 53757\, Germany
CATEGORIES:Ev. Augustin-Hangelar,Gottesdienste (Aug-Hang),Pauluskirche
ATTACH;FMTTYPE=image/png:https://www.glaesner-band.de/wp-content/uploads/2025/04/Bild_Aufbau_Weihnachten.png
ORGANIZER;CN="Ev. Kirchengemeinde St. Augustin und Hangelar":MAILTO:st.augustin-hangelar@ekir.de
END:VEVENT
BEGIN:VEVENT
DTSTART;TZID=Europe/Berlin:20251224T160000
DTEND;TZID=Europe/Berlin:20251224T170000
DTSTAMP:20260420T072134
CREATED:20251005T080000Z
LAST-MODIFIED:20250924T195421Z
UID:4384-1766592000-1766595600@www.glaesner-band.de
SUMMARY:Heiligabend 16 Uhr - Familiengottesdienst mit der Gläsner-Band
DESCRIPTION:An Heilig­abend findet der Fami­li­en­got­tes­dienst um 16 Uhr statt. Musi­ka­lisch beglei­tet wird dieser von der Gläs­ner-Band and Friends. Eben­falls wird es ein Krip­pen­spiel geben. Du bist herz­lich einge­la­den vorbei­zu­schau­en. \nIm Rahmen der “Die Gläs­ner-Band and Friends” unter­stützt uns: \n\nGesang\n\nAnna
URL:https://www.glaesner-band.de/termindetails/heiligabend-16-uhr-familiengottesdienst-mit-der-glaesner-band-2/
LOCATION:Paulus­kir­che Sankt Augus­tin\, An den Drei Eichen 2\, Sankt Augustin\, Nordrhein-Westfalen\, 53757\, Germany
CATEGORIES:Ev. Augustin-Hangelar,Gottesdienste (Aug-Hang),Pauluskirche
ATTACH;FMTTYPE=image/png:https://www.glaesner-band.de/wp-content/uploads/2025/04/Bild_Aufbau_Weihnachten.png
ORGANIZER;CN="Ev. Kirchengemeinde St. Augustin und Hangelar":MAILTO:st.augustin-hangelar@ekir.de
END:VEVENT
END:VCALENDAR