BEGIN:VCALENDAR
VERSION:2.0
PRODID:-//Die Gl&auml;sner-Band - ECPv6.15.20//NONSGML v1.0//EN
CALSCALE:GREGORIAN
METHOD:PUBLISH
X-ORIGINAL-URL:https://www.glaesner-band.de
X-WR-CALDESC:Veranstaltungen für Die Gl&auml;sner-Band
REFRESH-INTERVAL;VALUE=DURATION:PT1H
X-Robots-Tag:noindex
X-PUBLISHED-TTL:PT1H
BEGIN:VTIMEZONE
TZID:Europe/Berlin
BEGIN:DAYLIGHT
TZOFFSETFROM:+0100
TZOFFSETTO:+0200
TZNAME:CEST
DTSTART:20240331T010000
END:DAYLIGHT
BEGIN:STANDARD
TZOFFSETFROM:+0200
TZOFFSETTO:+0100
TZNAME:CET
DTSTART:20241027T010000
END:STANDARD
BEGIN:DAYLIGHT
TZOFFSETFROM:+0100
TZOFFSETTO:+0200
TZNAME:CEST
DTSTART:20250330T010000
END:DAYLIGHT
BEGIN:STANDARD
TZOFFSETFROM:+0200
TZOFFSETTO:+0100
TZNAME:CET
DTSTART:20251026T010000
END:STANDARD
BEGIN:DAYLIGHT
TZOFFSETFROM:+0100
TZOFFSETTO:+0200
TZNAME:CEST
DTSTART:20260329T010000
END:DAYLIGHT
BEGIN:STANDARD
TZOFFSETFROM:+0200
TZOFFSETTO:+0100
TZNAME:CET
DTSTART:20261025T010000
END:STANDARD
END:VTIMEZONE
BEGIN:VEVENT
DTSTART;TZID=Europe/Berlin:20251102T100000
DTEND;TZID=Europe/Berlin:20251102T110000
DTSTAMP:20260420T091220
CREATED:20250302T090000Z
LAST-MODIFIED:20251024T103208Z
UID:2093-1762077600-1762081200@www.glaesner-band.de
SUMMARY:Jubel-Literaturgottesdienst mit der Gläsner-Band
DESCRIPTION:Im Rahmen des Jubi­lä­ums “60 Jahre Evan­ge­li­sche Öffent­li­che Büche­rei Hangelar” gibt es einen Jubel-Lite­ra­tur­got­tes­dienst unter der musi­ka­li­schen Beglei­tung der Gläs­ner-Band.
URL:https://www.glaesner-band.de/termindetails/jubel-literaturgottesdienst-mit-der-glaesner-band/
LOCATION:Chris­tus­kir­che Sankt Augus­tin Hangelar\, An der Evangelischen Kirche 1-3\, Sankt Augustin\, Nordrhein-Westfalen\, 53757\, Germany
CATEGORIES:Christuskirche,Ev. Augustin-Hangelar,Gottesdienste (Aug-Hang)
ATTACH;FMTTYPE=image/png:https://www.glaesner-band.de/wp-content/uploads/2025/04/Bild_Aufbau_Gottesdienst_04.png
ORGANIZER;CN="Ev. Kirchengemeinde St. Augustin und Hangelar":MAILTO:st.augustin-hangelar@ekir.de
END:VEVENT
BEGIN:VEVENT
DTSTART;TZID=Europe/Berlin:20251106T193000
DTEND;TZID=Europe/Berlin:20251106T213000
DTSTAMP:20260420T091220
CREATED:20250526T080000Z
LAST-MODIFIED:20250531T215228Z
UID:4103-1762457400-1762464600@www.glaesner-band.de
SUMMARY:Gedichte- und Geschichtenabend feat. die Gläsner-Band
DESCRIPTION:Im Novem­ber ist es wieder soweit! \nWenn alles plan­mä­ßig verläuft\, wird es im Gemein­de­zen­trum Paulus­kir­che in “Blau-Gelb” wieder einen “Gedich­te­abend” geben. Wie gewohnt wird es wieder Humor­vol­les\, Span­nen­des und Nach­denk­li­ches in Form von Balla­den und Geschich­ten geben. \nAlle Gedich­te und Balla­den werden dies­mal etwas “mit des Geschi­ckes Mäch­ten” zu tun haben. \nDer äuße­re Rahmen bleibt unver­än­dert: \n\nEntspan­nung bei Texten\, Bildern und Geträn­ken\,\nMusik von der Gläs­ner-Band in den Pausen sowie\nfrei­er Eintritt und keine Spen­den.\n\nSeien Sie uns will­kom­men – wir freu­en uns auf den Abend. \nIhr “Gedich­te­abend-Team”
URL:https://www.glaesner-band.de/termindetails/gedichte-und-geschichtenabend-feat-die-glaesner-band-3/
LOCATION:Paulus­kir­che Sankt Augus­tin\, An den Drei Eichen 2\, Sankt Augustin\, Nordrhein-Westfalen\, 53757\, Germany
CATEGORIES:Ev. Augustin-Hangelar,Kulturelles (Aug-Hang),Pauluskirche
ATTACH;FMTTYPE=image/png:https://www.glaesner-band.de/wp-content/uploads/2025/05/Bild_GedichteGeschichtenabend_GeschickesMaechten.png
ORGANIZER;CN="Das Gedichteabend-Team der Ev. Kirchengemeinde St. Augustin und Hangelar":MAILTO:st.augustin-hangelar@ekir.de
END:VEVENT
BEGIN:VEVENT
DTSTART;TZID=Europe/Berlin:20251114T190000
DTEND;TZID=Europe/Berlin:20251114T210000
DTSTAMP:20260420T091220
CREATED:20250601T080000Z
LAST-MODIFIED:20250531T215304Z
UID:4136-1763146800-1763154000@www.glaesner-band.de
SUMMARY:Gedichte- und Geschichtenabend feat. die Gläsner-Band
DESCRIPTION:Wenn alles plan­mä­ßig verläuft\, wird es im Gemein­de­zen­trum der Chris­tus­kir­che Sankt Augus­tin Hangelar wieder einen “Gedich­te­abend” geben. Es wird Humor­vol­les\, Span­nen­des und Nach­denk­li­ches in Form von Balla­den und Geschich­ten geben. \nAlle Gedich­te und Balla­den werden dies­mal etwas “mit des Geschi­ckes Mäch­ten” zu tun haben. \nDer äuße­re Rahmen bleibt unver­än­dert: \n\nEntspan­nung bei Texten\, Bildern und Geträn­ken\,\nMusik von der Gläs­ner-Band in den Pausen sowie\nfrei­er Eintritt und keine Spen­den.\n\nSeien Sie uns will­kom­men – wir freu­en uns auf den Abend. \nIhr “Gedich­te­abend-Team”
URL:https://www.glaesner-band.de/termindetails/gedichte-und-geschichtenabend-feat-die-glaesner-band-4/
LOCATION:Chris­tus­kir­che Sankt Augus­tin Hangelar\, An der Evangelischen Kirche 1-3\, Sankt Augustin\, Nordrhein-Westfalen\, 53757\, Germany
CATEGORIES:Christuskirche,Ev. Augustin-Hangelar,Kulturelles (Aug-Hang)
ATTACH;FMTTYPE=image/png:https://www.glaesner-band.de/wp-content/uploads/2025/05/Bild_GedichteGeschichtenabend_GeschickesMaechten.png
ORGANIZER;CN="Das Gedichteabend-Team der Ev. Kirchengemeinde St. Augustin und Hangelar":MAILTO:st.augustin-hangelar@ekir.de
END:VEVENT
BEGIN:VEVENT
DTSTART;TZID=Europe/Berlin:20251130T103000
DTEND;TZID=Europe/Berlin:20251130T113000
DTSTAMP:20260420T091221
CREATED:20250713T080000Z
LAST-MODIFIED:20251124T082230Z
UID:4240-1764498600-1764502200@www.glaesner-band.de
SUMMARY:Ökumenischer Open-Air-Gottesdienst mit der Gläsner-Band
DESCRIPTION:Es findet auch dieses Jahr wieder ein ökume­ni­scher Open-Air-Gottes­dienst im Garten der Stey­ler Missio­na­re statt. Anschlie­ßend gibt es die Möglich­keit\, nach dem Gottes­dienst die Viel­falt des dort statt­fin­den­den Weih­nachts­mark­tes zu erkun­den. \nMusi­ka­lisch beglei­tet wird der Gottes­dienst von der Gläs­ner-Band. \nIm Rahmen der “Die Gläs­ner-Band and Friends” unter­stützt uns: \n\nGesang\n\nMaren Brecker
URL:https://www.glaesner-band.de/termindetails/oekumenischer-open-air-gottesdienst-mit-der-glaesner-band-2/
LOCATION:Stey­ler Missio­na­re e.V.\, Arnold-Janssen-Strasse 30\, Sankt Augustin\, Nordrhein-Westfalen\, 53757\, Germany
CATEGORIES:Ev. Augustin-Hangelar,Gottesdienste (Aug-Hang),Open-Air (Aug-Hang)
ATTACH;FMTTYPE=image/png:https://www.glaesner-band.de/wp-content/uploads/2025/10/Bild_Weihnachtsmarkt_Steyler_Missionare.png
ORGANIZER;CN="Initiative Weihnachtsmarkt Sankt Augustin-Ort":MAILTO:postmaster@weihnachtsmarkt-sankt-augustin.de
END:VEVENT
END:VCALENDAR