BEGIN:VCALENDAR
VERSION:2.0
PRODID:-//Die Gl&auml;sner-Band - ECPv6.15.20//NONSGML v1.0//EN
CALSCALE:GREGORIAN
METHOD:PUBLISH
X-ORIGINAL-URL:https://www.glaesner-band.de
X-WR-CALDESC:Veranstaltungen für Die Gl&auml;sner-Band
REFRESH-INTERVAL;VALUE=DURATION:PT1H
X-Robots-Tag:noindex
X-PUBLISHED-TTL:PT1H
BEGIN:VTIMEZONE
TZID:Europe/Berlin
BEGIN:DAYLIGHT
TZOFFSETFROM:+0100
TZOFFSETTO:+0200
TZNAME:CEST
DTSTART:20240331T010000
END:DAYLIGHT
BEGIN:STANDARD
TZOFFSETFROM:+0200
TZOFFSETTO:+0100
TZNAME:CET
DTSTART:20241027T010000
END:STANDARD
BEGIN:DAYLIGHT
TZOFFSETFROM:+0100
TZOFFSETTO:+0200
TZNAME:CEST
DTSTART:20250330T010000
END:DAYLIGHT
BEGIN:STANDARD
TZOFFSETFROM:+0200
TZOFFSETTO:+0100
TZNAME:CET
DTSTART:20251026T010000
END:STANDARD
BEGIN:DAYLIGHT
TZOFFSETFROM:+0100
TZOFFSETTO:+0200
TZNAME:CEST
DTSTART:20260329T010000
END:DAYLIGHT
BEGIN:STANDARD
TZOFFSETFROM:+0200
TZOFFSETTO:+0100
TZNAME:CET
DTSTART:20261025T010000
END:STANDARD
END:VTIMEZONE
BEGIN:VEVENT
DTSTART;TZID=Europe/Berlin:20250907T100000
DTEND;TZID=Europe/Berlin:20250907T110000
DTSTAMP:20260422T123834
CREATED:20250302T090000Z
LAST-MODIFIED:20250411T195011Z
UID:2103-1757239200-1757242800@www.glaesner-band.de
SUMMARY:Gottesdienst mit der Gläsner-Band
DESCRIPTION:Gottes­dienst unter der musi­ka­li­schen Beglei­tung der Gläs­ner-Band.
URL:https://www.glaesner-band.de/termindetails/gottesdienst-mit-der-glaesner-band-10/
LOCATION:Paulus­kir­che Sankt Augus­tin\, An den Drei Eichen 2\, Sankt Augustin\, Nordrhein-Westfalen\, 53757\, Germany
CATEGORIES:Ev. Augustin-Hangelar,Gottesdienste (Aug-Hang),Pauluskirche
ATTACH;FMTTYPE=image/png:https://www.glaesner-band.de/wp-content/uploads/2025/04/Bild_Aufbau_Gottesdienst_02.png
ORGANIZER;CN="Ev. Kirchengemeinde St. Augustin und Hangelar":MAILTO:st.augustin-hangelar@ekir.de
END:VEVENT
BEGIN:VEVENT
DTSTART;TZID=Europe/Berlin:20250921T100000
DTEND;TZID=Europe/Berlin:20250921T110000
DTSTAMP:20260422T123834
CREATED:20250521T124835Z
LAST-MODIFIED:20250827T233008Z
UID:4036-1758448800-1758452400@www.glaesner-band.de
SUMMARY:Gottesdienst mit der Gläsner-Band Percussion
DESCRIPTION:!!ACHTUNG❘ Abge­sagt: Der Evan­ge­li­sche Chor Hangelar-Holz­lar gestal­tet weiter­hin musi­ka­lisch den Gottes­dienst\, aller­dings ohne Unter­stüt­zung der Gläs­ner-Band Percus­sion (Klaus Gläs­ner). ❘ACHTUNG!! \nGottes­dienst unter musi­ka­li­scher Gestal­tung des Evan­ge­li­schen Chors Hangelar-Holz­lar\, in Zusam­men­ar­beit mit Klaus Gläs­ner (Percus­sion) der Gläs­ner-Band. \nNach dem Gottes­dienst findet das Gemein­de­fest der Evan­ge­li­schen Kirchen­ge­mein­de Bonn-Holz­lar statt.
URL:https://www.glaesner-band.de/termindetails/gottesdienst-mit-der-glaesner-band-percussion/
LOCATION:Dorn­busch­kir­che Bonn-Holz­lar\, Dahlienweg 4\, Bonn\, Nordrhein-Westfalen\, 53229\, Germany
CATEGORIES:Dornbuschkirche,Ev. Bonn-Holzlar,Gottesdienste (Bonn-Holzlar)
ATTACH;FMTTYPE=image/png:https://www.glaesner-band.de/wp-content/uploads/2025/04/Bild_Equipment_Schlagzeug.png
ORGANIZER;CN="Evangelische Kirchengemeinde Bonn-Holzlar":MAILTO:bonn-holzlar@ekir.de
END:VEVENT
BEGIN:VEVENT
DTSTART;TZID=Europe/Berlin:20250928T100000
DTEND;TZID=Europe/Berlin:20250928T110000
DTSTAMP:20260422T123834
CREATED:20250302T090000Z
LAST-MODIFIED:20250411T195029Z
UID:2091-1759053600-1759057200@www.glaesner-band.de
SUMMARY:Gottesdienst mit der Gläsner-Band
DESCRIPTION:Gottes­dienst unter der musi­ka­li­schen Beglei­tung der Gläs­ner-Band.
URL:https://www.glaesner-band.de/termindetails/gottesdienst-mit-der-glaesner-band-12/
LOCATION:Chris­tus­kir­che Sankt Augus­tin Hangelar\, An der Evangelischen Kirche 1-3\, Sankt Augustin\, Nordrhein-Westfalen\, 53757\, Germany
CATEGORIES:Christuskirche,Ev. Augustin-Hangelar,Gottesdienste (Aug-Hang)
ATTACH;FMTTYPE=image/png:https://www.glaesner-band.de/wp-content/uploads/2025/04/Bild_Aufbau_Gottesdienst_03.png
ORGANIZER;CN="Ev. Kirchengemeinde St. Augustin und Hangelar":MAILTO:st.augustin-hangelar@ekir.de
END:VEVENT
END:VCALENDAR