BEGIN:VCALENDAR
VERSION:2.0
PRODID:-//Die Gl&auml;sner-Band - ECPv6.15.20//NONSGML v1.0//EN
CALSCALE:GREGORIAN
METHOD:PUBLISH
X-ORIGINAL-URL:https://www.glaesner-band.de
X-WR-CALDESC:Veranstaltungen für Die Gl&auml;sner-Band
REFRESH-INTERVAL;VALUE=DURATION:PT1H
X-Robots-Tag:noindex
X-PUBLISHED-TTL:PT1H
BEGIN:VTIMEZONE
TZID:Europe/Berlin
BEGIN:DAYLIGHT
TZOFFSETFROM:+0100
TZOFFSETTO:+0200
TZNAME:CEST
DTSTART:20240331T010000
END:DAYLIGHT
BEGIN:STANDARD
TZOFFSETFROM:+0200
TZOFFSETTO:+0100
TZNAME:CET
DTSTART:20241027T010000
END:STANDARD
BEGIN:DAYLIGHT
TZOFFSETFROM:+0100
TZOFFSETTO:+0200
TZNAME:CEST
DTSTART:20250330T010000
END:DAYLIGHT
BEGIN:STANDARD
TZOFFSETFROM:+0200
TZOFFSETTO:+0100
TZNAME:CET
DTSTART:20251026T010000
END:STANDARD
BEGIN:DAYLIGHT
TZOFFSETFROM:+0100
TZOFFSETTO:+0200
TZNAME:CEST
DTSTART:20260329T010000
END:DAYLIGHT
BEGIN:STANDARD
TZOFFSETFROM:+0200
TZOFFSETTO:+0100
TZNAME:CET
DTSTART:20261025T010000
END:STANDARD
END:VTIMEZONE
BEGIN:VEVENT
DTSTART;TZID=Europe/Berlin:20250202T000000
DTEND;TZID=Europe/Berlin:20250202T235959
DTSTAMP:20260423T003849
CREATED:20241128T210000Z
LAST-MODIFIED:20250411T194403Z
UID:1250-1738454400-1738540799@www.glaesner-band.de
SUMMARY:Release neues YouTube-Video Teil 8
DESCRIPTION:Heute veröf­fent­li­chen wir zwei weite­re Vide­os auf unse­rem YouTube-Kanal. Die Vide­os werden heute ab 10:00 Uhr auf dem Kanal zur Verfü­gung stehen. Den Link findest du unten in den Veran­stal­tungs­in­for­ma­tio­nen. \nSchau gerne mal rein.
URL:https://www.glaesner-band.de/termindetails/release-neues-youtube-video-teil-8/
LOCATION:YouTube@Gläsner-Band
CATEGORIES:Social Media,YouTube
ATTACH;FMTTYPE=image/png:https://www.glaesner-band.de/wp-content/uploads/2025/04/Bild_Seite_YouTube_DGB_Abspann.png
END:VEVENT
BEGIN:VEVENT
DTSTART;TZID=Europe/Berlin:20250202T100000
DTEND;TZID=Europe/Berlin:20250202T110000
DTSTAMP:20260423T003849
CREATED:20241128T210000Z
LAST-MODIFIED:20250411T194418Z
UID:1223-1738490400-1738494000@www.glaesner-band.de
SUMMARY:Gottesdienst mit der Gläsner-Band
DESCRIPTION:Gottes­dienst unter der musi­ka­li­schen Beglei­tung der Gläs­ner-Band.
URL:https://www.glaesner-band.de/termindetails/gottesdienst-mit-der-glaesner-band-3/
LOCATION:Paulus­kir­che Sankt Augus­tin\, An den Drei Eichen 2\, Sankt Augustin\, Nordrhein-Westfalen\, 53757\, Germany
CATEGORIES:Ev. Augustin-Hangelar,Gottesdienste (Aug-Hang),Pauluskirche
ATTACH;FMTTYPE=image/png:https://www.glaesner-band.de/wp-content/uploads/2025/04/Bild_Aufbau_Gottesdienst_02.png
ORGANIZER;CN="Ev. Kirchengemeinde St. Augustin und Hangelar":MAILTO:st.augustin-hangelar@ekir.de
END:VEVENT
BEGIN:VEVENT
DTSTART;TZID=Europe/Berlin:20250216T000000
DTEND;TZID=Europe/Berlin:20250216T235959
DTSTAMP:20260423T003849
CREATED:20241128T210000Z
LAST-MODIFIED:20250411T194434Z
UID:1254-1739664000-1739750399@www.glaesner-band.de
SUMMARY:Release neues YouTube-Video Teil 9
DESCRIPTION:Heute veröf­fent­li­chen wir zwei weite­re Vide­os auf unse­rem YouTube-Kanal. Die Vide­os werden heute ab 10:00 Uhr auf dem Kanal zur Verfü­gung stehen. Den Link findest du unten in den Veran­stal­tungs­in­for­ma­tio­nen. \nSchau gerne mal rein.
URL:https://www.glaesner-band.de/termindetails/release-neues-youtube-video-teil-9/
LOCATION:YouTube@Gläsner-Band
CATEGORIES:Social Media,YouTube
ATTACH;FMTTYPE=image/png:https://www.glaesner-band.de/wp-content/uploads/2025/04/Bild_Seite_YouTube_DGB_Abspann.png
END:VEVENT
END:VCALENDAR