BEGIN:VCALENDAR
VERSION:2.0
PRODID:-//Die Gl&auml;sner-Band - ECPv6.15.20//NONSGML v1.0//EN
CALSCALE:GREGORIAN
METHOD:PUBLISH
X-ORIGINAL-URL:https://www.glaesner-band.de
X-WR-CALDESC:Veranstaltungen für Die Gl&auml;sner-Band
REFRESH-INTERVAL;VALUE=DURATION:PT1H
X-Robots-Tag:noindex
X-PUBLISHED-TTL:PT1H
BEGIN:VTIMEZONE
TZID:Europe/Berlin
BEGIN:DAYLIGHT
TZOFFSETFROM:+0100
TZOFFSETTO:+0200
TZNAME:CEST
DTSTART:20240331T010000
END:DAYLIGHT
BEGIN:STANDARD
TZOFFSETFROM:+0200
TZOFFSETTO:+0100
TZNAME:CET
DTSTART:20241027T010000
END:STANDARD
BEGIN:DAYLIGHT
TZOFFSETFROM:+0100
TZOFFSETTO:+0200
TZNAME:CEST
DTSTART:20250330T010000
END:DAYLIGHT
BEGIN:STANDARD
TZOFFSETFROM:+0200
TZOFFSETTO:+0100
TZNAME:CET
DTSTART:20251026T010000
END:STANDARD
BEGIN:DAYLIGHT
TZOFFSETFROM:+0100
TZOFFSETTO:+0200
TZNAME:CEST
DTSTART:20260329T010000
END:DAYLIGHT
BEGIN:STANDARD
TZOFFSETFROM:+0200
TZOFFSETTO:+0100
TZNAME:CET
DTSTART:20261025T010000
END:STANDARD
END:VTIMEZONE
BEGIN:VEVENT
DTSTART;TZID=Europe/Berlin:20250105T000000
DTEND;TZID=Europe/Berlin:20250105T235959
DTSTAMP:20260423T022207
CREATED:20241128T210000Z
LAST-MODIFIED:20250411T194245Z
UID:1243-1736035200-1736121599@www.glaesner-band.de
SUMMARY:Release neues YouTube-Video Teil 6
DESCRIPTION:Heute veröf­fent­li­chen wir zwei weite­re Vide­os auf unse­rem YouTube-Kanal. Die Vide­os werden heute ab 10:00 Uhr auf dem Kanal zur Verfü­gung stehen. Den Link findest du unten in den Veran­stal­tungs­in­for­ma­tio­nen. \nSchau gerne mal rein.
URL:https://www.glaesner-band.de/termindetails/release-neues-youtube-video-teil-6/
LOCATION:YouTube@Gläsner-Band
CATEGORIES:Social Media,YouTube
ATTACH;FMTTYPE=image/png:https://www.glaesner-band.de/wp-content/uploads/2025/04/Bild_Seite_YouTube_DGB_Abspann.png
END:VEVENT
BEGIN:VEVENT
DTSTART;TZID=Europe/Berlin:20250105T100000
DTEND;TZID=Europe/Berlin:20250105T110000
DTSTAMP:20260423T022207
CREATED:20241128T210000Z
LAST-MODIFIED:20250411T194259Z
UID:1221-1736071200-1736074800@www.glaesner-band.de
SUMMARY:Gottesdienst mit der Gläsner-Band
DESCRIPTION:Gottes­dienst unter der musi­ka­li­schen Beglei­tung der Gläs­ner-Band.
URL:https://www.glaesner-band.de/termindetails/gottesdienst-mit-der-glaesner-band-2/
LOCATION:Paulus­kir­che Sankt Augus­tin\, An den Drei Eichen 2\, Sankt Augustin\, Nordrhein-Westfalen\, 53757\, Germany
CATEGORIES:Ev. Augustin-Hangelar,Gottesdienste (Aug-Hang),Pauluskirche
ATTACH;FMTTYPE=image/png:https://www.glaesner-band.de/wp-content/uploads/2025/04/Bild_Aufbau_Gottesdienst_01.png
ORGANIZER;CN="Ev. Kirchengemeinde St. Augustin und Hangelar":MAILTO:st.augustin-hangelar@ekir.de
END:VEVENT
BEGIN:VEVENT
DTSTART;TZID=Europe/Berlin:20250112T100000
DTEND;TZID=Europe/Berlin:20250112T110000
DTSTAMP:20260423T022207
CREATED:20241128T210000Z
LAST-MODIFIED:20250411T194322Z
UID:1176-1736676000-1736679600@www.glaesner-band.de
SUMMARY:Begrüßungsgottesdienst der Konfirmanden mit der Gläsner-Band
DESCRIPTION:In diesem Gottes­dienst werden die neuen Konfir­man­den der Evan­ge­li­schen Kirchen­ge­mein­de Sankt Augus­tin Nieder­pleis und Müll­dorf begrüßt. Musi­ka­lisch beglei­tet wird dieser Gottes­dienst durch die Gläs­ner-Band. \nIm Rahmen der “Die Gläs­ner-Band and Friends” unter­stützt uns gesang­lich Maren Brecker.
URL:https://www.glaesner-band.de/termindetails/begruessungsgottesdienst-der-konfirmanden-mit-der-glaesner-band/
LOCATION:Diet­rich-Bonhoef­fer-Haus Nieder­pleis\, Dietrich-Bonhoeffer-Str. 39\, Sankt Augustin\, Nordrhein-Westfalen\, 53757\, Germany
CATEGORIES:Dietrich-Bonhoeffer-Haus,Ev. Niederpleis-Mülldorf,Gottesdienste (Npls.-Mülldorf)
ATTACH;FMTTYPE=image/png:https://www.glaesner-band.de/wp-content/uploads/2025/04/Bild_Aufbau_Gottesdienst_05.png
ORGANIZER;CN="Ev. Kirchengemeinde Sankt Augustin Niederpleis und M%C3%BClldorf":MAILTO:st.augustin-niederpleis@ekir.de
END:VEVENT
BEGIN:VEVENT
DTSTART;TZID=Europe/Berlin:20250118T193000
DTEND;TZID=Europe/Berlin:20250118T213000
DTSTAMP:20260423T022207
CREATED:20241128T210000Z
LAST-MODIFIED:20251029T152924Z
UID:1227-1737228600-1737235800@www.glaesner-band.de
SUMMARY:Gedichte- und Geschichtenabend feat. die Gläsner-Band
DESCRIPTION:!!ACHTUNG❘ Verscho­ben: Schreib­feh­ler bzgl. Beginn der Veran­stal­tung: Diese beginnt um 19:30 Uhr und nicht\, wie zuvor ange­ge­ben\, um 19 Uhr. Die Veran­stal­tungs­da­ten wurden entspre­chend aktua­li­siert. Wir bitten um Entschul­di­gung. ❘ACHTUNG!! \nIm Janu­ar feiern wir Premie­re. \nWenn alles plan­mä­ßig verläuft\, wird es im Gemein­de­zen­trum der Chris­tus­kir­che Sankt Augus­tin Hangelar das erste Mal einen “Gedich­te­abend” geben. Es wird Humor­vol­les\, Span­nen­des und Nach­denk­li­ches in Form von Balla­den und Geschich­ten geben. Alle Stücke haben einen Bezug zu “Wasser”\, mal sehr direkt\, mal eher im Hinter­grund. \nLassen sie sich über­ra­schen! \nDer äuße­re Rahmen bleibt unver­än­dert: \n\nEntspan­nung bei Texten\, Bildern und Geträn­ken\,\nMusik von der Gläs­ner-Band in den Pausen sowie\nfrei­er Eintritt und keine Spen­den.\n\nSeien Sie uns will­kom­men – wir freu­en uns auf den Abend. \nIhr “Gedich­te­abend-Team”
URL:https://www.glaesner-band.de/termindetails/gedichte-und-geschichtenabend-feat-die-glaesner-band-2/
LOCATION:Chris­tus­kir­che Sankt Augus­tin Hangelar\, An der Evangelischen Kirche 1-3\, Sankt Augustin\, Nordrhein-Westfalen\, 53757\, Germany
CATEGORIES:Christuskirche,Ev. Augustin-Hangelar,Kulturelles (Aug-Hang)
ATTACH;FMTTYPE=image/png:https://www.glaesner-band.de/wp-content/uploads/2025/04/Bild_GedichteGeschichtenabend_Wasser.png
END:VEVENT
BEGIN:VEVENT
DTSTART;TZID=Europe/Berlin:20250119T000000
DTEND;TZID=Europe/Berlin:20250119T235959
DTSTAMP:20260423T022207
CREATED:20241128T210000Z
LAST-MODIFIED:20250411T194348Z
UID:1246-1737244800-1737331199@www.glaesner-band.de
SUMMARY:Release neues YouTube-Video Teil 7
DESCRIPTION:Heute veröf­fent­li­chen wir zwei weite­re Vide­os auf unse­rem YouTube-Kanal. Die Vide­os werden heute ab 10:00 Uhr auf dem Kanal zur Verfü­gung stehen. Den Link findest du unten in den Veran­stal­tungs­in­for­ma­tio­nen. \nSchau gerne mal rein.
URL:https://www.glaesner-band.de/termindetails/release-neues-youtube-video-teil-7/
LOCATION:YouTube@Gläsner-Band
CATEGORIES:Social Media,YouTube
ATTACH;FMTTYPE=image/png:https://www.glaesner-band.de/wp-content/uploads/2025/04/Bild_Seite_YouTube_DGB_Abspann.png
END:VEVENT
END:VCALENDAR