BEGIN:VCALENDAR
VERSION:2.0
PRODID:-//Die Gl&auml;sner-Band - ECPv6.15.20//NONSGML v1.0//EN
CALSCALE:GREGORIAN
METHOD:PUBLISH
X-ORIGINAL-URL:https://www.glaesner-band.de
X-WR-CALDESC:Veranstaltungen für Die Gl&auml;sner-Band
REFRESH-INTERVAL;VALUE=DURATION:PT1H
X-Robots-Tag:noindex
X-PUBLISHED-TTL:PT1H
BEGIN:VTIMEZONE
TZID:Europe/Berlin
BEGIN:DAYLIGHT
TZOFFSETFROM:+0100
TZOFFSETTO:+0200
TZNAME:CEST
DTSTART:20230326T010000
END:DAYLIGHT
BEGIN:STANDARD
TZOFFSETFROM:+0200
TZOFFSETTO:+0100
TZNAME:CET
DTSTART:20231029T010000
END:STANDARD
BEGIN:DAYLIGHT
TZOFFSETFROM:+0100
TZOFFSETTO:+0200
TZNAME:CEST
DTSTART:20240331T010000
END:DAYLIGHT
BEGIN:STANDARD
TZOFFSETFROM:+0200
TZOFFSETTO:+0100
TZNAME:CET
DTSTART:20241027T010000
END:STANDARD
BEGIN:DAYLIGHT
TZOFFSETFROM:+0100
TZOFFSETTO:+0200
TZNAME:CEST
DTSTART:20250330T010000
END:DAYLIGHT
BEGIN:STANDARD
TZOFFSETFROM:+0200
TZOFFSETTO:+0100
TZNAME:CET
DTSTART:20251026T010000
END:STANDARD
END:VTIMEZONE
BEGIN:VEVENT
DTSTART;TZID=Europe/Berlin:20241006T000000
DTEND;TZID=Europe/Berlin:20241006T235959
DTSTAMP:20260423T072426
CREATED:20240928T070546Z
LAST-MODIFIED:20250411T193841Z
UID:587-1728172800-1728259199@www.glaesner-band.de
SUMMARY:Premiere: YouTube-Kanal der Gläsner-Band
DESCRIPTION:Am 06.10.2024 ist es soweit. Unser YouTube-Kanal geht online und präsen­tiert zu Beginn ein Vorstel­lungs­vi­deo über uns. Danach werden weite­re Beiträ­ge aus unse­rem Repor­toire hoch­ge­la­den. Schaut gerne mal in den Kanal rein. Wir würden uns freu­en.
URL:https://www.glaesner-band.de/termindetails/premiere-youtube-kanal-der-glaesner-band/
LOCATION:YouTube@Gläsner-Band
CATEGORIES:Social Media,YouTube
ATTACH;FMTTYPE=image/png:https://www.glaesner-band.de/wp-content/uploads/2025/04/Bild_Seite_DGB_YouTube-Kanal.png
END:VEVENT
BEGIN:VEVENT
DTSTART;TZID=Europe/Berlin:20241006T100000
DTEND;TZID=Europe/Berlin:20241006T110000
DTSTAMP:20260423T072426
CREATED:20240928T072807Z
LAST-MODIFIED:20250411T193902Z
UID:592-1728208800-1728212400@www.glaesner-band.de
SUMMARY:Familiengottesdienst mit der Gläsner-Band - Erntedank
DESCRIPTION:Der Gottes­dienst wird von der Gläs­ner-Band musi­ka­lisch beglei­tet. Anschlie­ßend wird gemein­sam gebruncht.
URL:https://www.glaesner-band.de/termindetails/familiengottesdienst-mit-der-glaesner-band-erntedank/
LOCATION:Paulus­kir­che Sankt Augus­tin\, An den Drei Eichen 2\, Sankt Augustin\, Nordrhein-Westfalen\, 53757\, Germany
CATEGORIES:Ev. Augustin-Hangelar,Gottesdienste (Aug-Hang),Pauluskirche
ATTACH;FMTTYPE=image/png:https://www.glaesner-band.de/wp-content/uploads/2025/04/Bild_Aufbau_Gottesdienst_04.png
END:VEVENT
BEGIN:VEVENT
DTSTART;TZID=Europe/Berlin:20241020T000000
DTEND;TZID=Europe/Berlin:20241020T235959
DTSTAMP:20260423T072426
CREATED:20240928T074619Z
LAST-MODIFIED:20250411T131332Z
UID:602-1729382400-1729468799@www.glaesner-band.de
SUMMARY:Release neues YouTube-Video Teil 1
DESCRIPTION:Heute veröf­fent­li­chen wir zwei weite­re Vide­os auf unse­rem YouTube-Kanal. Die Vide­os werden heute ab 10:00 Uhr auf dem Kanal zur Verfü­gung stehen. Den Link findest du unten in den Veran­stal­tungs­in­for­ma­tio­nen. \nSchau gerne mal rein.
URL:https://www.glaesner-band.de/termindetails/release-neues-youtube-video-teil-1/
LOCATION:YouTube@Gläsner-Band
CATEGORIES:Social Media,YouTube
ATTACH;FMTTYPE=image/png:https://www.glaesner-band.de/wp-content/uploads/2025/04/Bild_Seite_YouTube_DGB_Abspann.png
ORGANIZER;CN="Die Gl%C3%A4sner-Band":MAILTO:info@glaesner-band.de
END:VEVENT
END:VCALENDAR