BEGIN:VCALENDAR
VERSION:2.0
PRODID:-//Die Gl&auml;sner-Band - ECPv6.15.20//NONSGML v1.0//EN
CALSCALE:GREGORIAN
METHOD:PUBLISH
X-WR-CALNAME:Die Gl&auml;sner-Band
X-ORIGINAL-URL:https://www.glaesner-band.de
X-WR-CALDESC:Veranstaltungen für Die Gl&auml;sner-Band
REFRESH-INTERVAL;VALUE=DURATION:PT1H
X-Robots-Tag:noindex
X-PUBLISHED-TTL:PT1H
BEGIN:VTIMEZONE
TZID:Europe/Berlin
BEGIN:DAYLIGHT
TZOFFSETFROM:+0100
TZOFFSETTO:+0200
TZNAME:CEST
DTSTART:20230326T010000
END:DAYLIGHT
BEGIN:STANDARD
TZOFFSETFROM:+0200
TZOFFSETTO:+0100
TZNAME:CET
DTSTART:20231029T010000
END:STANDARD
BEGIN:DAYLIGHT
TZOFFSETFROM:+0100
TZOFFSETTO:+0200
TZNAME:CEST
DTSTART:20240331T010000
END:DAYLIGHT
BEGIN:STANDARD
TZOFFSETFROM:+0200
TZOFFSETTO:+0100
TZNAME:CET
DTSTART:20241027T010000
END:STANDARD
BEGIN:DAYLIGHT
TZOFFSETFROM:+0100
TZOFFSETTO:+0200
TZNAME:CEST
DTSTART:20250330T010000
END:DAYLIGHT
BEGIN:STANDARD
TZOFFSETFROM:+0200
TZOFFSETTO:+0100
TZNAME:CET
DTSTART:20251026T010000
END:STANDARD
END:VTIMEZONE
BEGIN:VEVENT
DTSTART;TZID=Europe/Berlin:20241114T193000
DTEND;TZID=Europe/Berlin:20241114T213000
DTSTAMP:20260425T224724
CREATED:20240929T155948Z
LAST-MODIFIED:20251029T153012Z
UID:818-1731612600-1731619800@www.glaesner-band.de
SUMMARY:Gedichte- und Geschichtenabend feat. die Gläsner-Band
DESCRIPTION:Im Novem­ber ist es wieder soweit! \nWenn alles plan­mä­ßig verläuft\, wird es im Gemein­de­zen­trum Paulus­kir­che in “Blau-Gelb” wieder einen “Gedich­te­abend” geben. Wie gewohnt wird es wieder Humor­vol­les\, Span­nen­des und Nach­denk­li­ches in Form von Balla­den und Geschich­ten geben. In diesem Jahr haben alle Stücke einen Bezug zu “Wasser”\, mal sehr direkt\, mal eher im Hinter­grund. \nLassen sie sich über­ra­schen! \nDer äuße­re Rahmen bleibt unver­än­dert: \n\nEntspan­nung bei Texten\, Bildern und Geträn­ken\,\nMusik von der Gläs­ner-Band in den Pausen sowie\nfrei­er Eintritt und keine Spen­den.\n\nSeien Sie uns will­kom­men – wir freu­en uns auf den Abend. \nIhr “Gedich­te­abend-Team” \nBeschrei­bung entnom­men aus dem Gemein­de­brief der Ev. Kirchen­ge­mein­de St. Augus­tin und Hangelar – Ausga­be September/Oktober/November 2024
URL:https://www.glaesner-band.de/termindetails/gedichte-und-geschichtenabend-feat-die-glaesner-band/
LOCATION:Paulus­kir­che Sankt Augus­tin\, An den Drei Eichen 2\, Sankt Augustin\, Nordrhein-Westfalen\, 53757\, Germany
CATEGORIES:Ev. Augustin-Hangelar,Kulturelles (Aug-Hang),Pauluskirche
ATTACH;FMTTYPE=image/png:https://www.glaesner-band.de/wp-content/uploads/2025/04/Bild_GedichteGeschichtenabend_Wasser.png
END:VEVENT
END:VCALENDAR