BEGIN:VCALENDAR
VERSION:2.0
PRODID:-//Die Gl&auml;sner-Band - ECPv6.15.20//NONSGML v1.0//EN
CALSCALE:GREGORIAN
METHOD:PUBLISH
X-WR-CALNAME:Die Gl&auml;sner-Band
X-ORIGINAL-URL:https://www.glaesner-band.de
X-WR-CALDESC:Veranstaltungen für Die Gl&auml;sner-Band
REFRESH-INTERVAL;VALUE=DURATION:PT1H
X-Robots-Tag:noindex
X-PUBLISHED-TTL:PT1H
BEGIN:VTIMEZONE
TZID:Europe/Berlin
BEGIN:DAYLIGHT
TZOFFSETFROM:+0100
TZOFFSETTO:+0200
TZNAME:CEST
DTSTART:20250330T010000
END:DAYLIGHT
BEGIN:STANDARD
TZOFFSETFROM:+0200
TZOFFSETTO:+0100
TZNAME:CET
DTSTART:20251026T010000
END:STANDARD
BEGIN:DAYLIGHT
TZOFFSETFROM:+0100
TZOFFSETTO:+0200
TZNAME:CEST
DTSTART:20260329T010000
END:DAYLIGHT
BEGIN:STANDARD
TZOFFSETFROM:+0200
TZOFFSETTO:+0100
TZNAME:CET
DTSTART:20261025T010000
END:STANDARD
BEGIN:DAYLIGHT
TZOFFSETFROM:+0100
TZOFFSETTO:+0200
TZNAME:CEST
DTSTART:20270328T010000
END:DAYLIGHT
BEGIN:STANDARD
TZOFFSETFROM:+0200
TZOFFSETTO:+0100
TZNAME:CET
DTSTART:20271031T010000
END:STANDARD
END:VTIMEZONE
BEGIN:VEVENT
DTSTART;TZID=Europe/Berlin:20260627T180000
DTEND;TZID=Europe/Berlin:20260627T193000
DTSTAMP:20260420T071255
CREATED:20260419T080000Z
LAST-MODIFIED:20260413T121751Z
UID:4842-1782583200-1782588600@www.glaesner-band.de
SUMMARY:Jubiläumskonzert des Kirchenchor Ittenbach - Oberpleis
DESCRIPTION:Jubi­lä­ums­kon­zert des Kirchen­chor Itten­bach – Ober­pleis. Musi­ka­lisch gestal­tet wird dieses Konzert gemein­sam mit der Gläs­ner-Band.
URL:https://www.glaesner-band.de/termindetails/jubilaeumskonzert-des-kirchenchor-ittenbach-oberpleis/
LOCATION:Aufer­ste­hungs­kir­che Itten­bach\, Kantering 11\, Königswinter\, Nordrhein-Westfalen\, 53639\, Germany
CATEGORIES:Auferstehungskirche,Ev. Siebengebirge,Kulturelles (EKISI)
ATTACH;FMTTYPE=image/png:https://www.glaesner-band.de/wp-content/uploads/2025/04/Bild_Aufbau_Gottesdienst_05.png
ORGANIZER;CN="Evangelische Kirchengemeinde Siebengebirge":MAILTO:siebengebirge@ekir.de
END:VEVENT
END:VCALENDAR