BEGIN:VCALENDAR
VERSION:2.0
PRODID:-//Die Gl&auml;sner-Band - ECPv6.15.20//NONSGML v1.0//EN
CALSCALE:GREGORIAN
METHOD:PUBLISH
X-WR-CALNAME:Die Gl&auml;sner-Band
X-ORIGINAL-URL:https://www.glaesner-band.de
X-WR-CALDESC:Veranstaltungen für Die Gl&auml;sner-Band
REFRESH-INTERVAL;VALUE=DURATION:PT1H
X-Robots-Tag:noindex
X-PUBLISHED-TTL:PT1H
BEGIN:VTIMEZONE
TZID:Europe/Berlin
BEGIN:DAYLIGHT
TZOFFSETFROM:+0100
TZOFFSETTO:+0200
TZNAME:CEST
DTSTART:20240331T010000
END:DAYLIGHT
BEGIN:STANDARD
TZOFFSETFROM:+0200
TZOFFSETTO:+0100
TZNAME:CET
DTSTART:20241027T010000
END:STANDARD
BEGIN:DAYLIGHT
TZOFFSETFROM:+0100
TZOFFSETTO:+0200
TZNAME:CEST
DTSTART:20250330T010000
END:DAYLIGHT
BEGIN:STANDARD
TZOFFSETFROM:+0200
TZOFFSETTO:+0100
TZNAME:CET
DTSTART:20251026T010000
END:STANDARD
BEGIN:DAYLIGHT
TZOFFSETFROM:+0100
TZOFFSETTO:+0200
TZNAME:CEST
DTSTART:20260329T010000
END:DAYLIGHT
BEGIN:STANDARD
TZOFFSETFROM:+0200
TZOFFSETTO:+0100
TZNAME:CET
DTSTART:20261025T010000
END:STANDARD
END:VTIMEZONE
BEGIN:VEVENT
DTSTART;TZID=Europe/Berlin:20250704T180000
DTEND;TZID=Europe/Berlin:20250704T223000
DTSTAMP:20260420T070305
CREATED:20250302T090000Z
LAST-MODIFIED:20250705T124454Z
UID:2047-1751652000-1751668200@www.glaesner-band.de
SUMMARY:Nacht der Kirchenmusik
DESCRIPTION:Die Evang­li­sche Kichen­ge­mein­de Sankt Augus­tin und Hangelar lädt in die Paulus­kir­che zur Nacht der Kirchen­mu­sik ein. Dich erwar­tet ein buntes musi­ka­li­sches Programm\, was in Zusam­men­ar­beit mit den Musik­grup­pen der Kirchen­ge­mein­den in Sankt Augus­tin zusam­men­ge­stellt wurde. Darun­ter wird auch die Gläs­ner-Band ihren musi­ka­li­schen Beitrag leis­ten und so zu einer gelun­ge­nen Nacht der Kirchen­mu­sik beitra­gen. \nIm Rahmen der “Die Gläs­ner-Band and Friends” unter­stüt­zen uns: \n\nGesang\n\nAnna\nMaren Brecker\nVero­ni­ka Rött­ger\n\n\n\nDetails zur Veran­stal­tung können dem Button “Weite­re Infor­ma­tio­nen” weiter unten entnom­men werden.
URL:https://www.glaesner-band.de/termindetails/nacht-der-kirchenmusik/
LOCATION:Paulus­kir­che Sankt Augus­tin\, An den Drei Eichen 2\, Sankt Augustin\, Nordrhein-Westfalen\, 53757\, Germany
CATEGORIES:Ev. Augustin-Hangelar,Kulturelles (Aug-Hang),Pauluskirche
ATTACH;FMTTYPE=image/png:https://www.glaesner-band.de/wp-content/uploads/2025/04/Bild_Die_Nacht_der_Kirchenmusik.png
ORGANIZER;CN="Ev. Kirchengemeinde St. Augustin und Hangelar":MAILTO:st.augustin-hangelar@ekir.de
END:VEVENT
BEGIN:VEVENT
DTSTART;TZID=Europe/Berlin:20250706T100000
DTEND;TZID=Europe/Berlin:20250706T110000
DTSTAMP:20260420T070305
CREATED:20250302T090000Z
LAST-MODIFIED:20250413T124244Z
UID:2044-1751796000-1751799600@www.glaesner-band.de
SUMMARY:Gottesdienst mit der Gläsner-Band
DESCRIPTION:Gottes­dienst unter der musi­ka­li­schen Beglei­tung der Gläs­ner-Band. \nIm Rahmen der “Die Gläs­ner-Band and Friends” unter­stützt uns: \n\nGesang & Gitar­re\n\nMaren Brecker
URL:https://www.glaesner-band.de/termindetails/gottesdienst-mit-der-glaesner-band-7/
LOCATION:Paulus­kir­che Sankt Augus­tin\, An den Drei Eichen 2\, Sankt Augustin\, Nordrhein-Westfalen\, 53757\, Germany
CATEGORIES:Ev. Augustin-Hangelar,Gottesdienste (Aug-Hang),Pauluskirche
ATTACH;FMTTYPE=image/png:https://www.glaesner-band.de/wp-content/uploads/2025/04/Bild_Aufbau_Gottesdienst_06.png
ORGANIZER;CN="Ev. Kirchengemeinde St. Augustin und Hangelar":MAILTO:st.augustin-hangelar@ekir.de
END:VEVENT
END:VCALENDAR