BEGIN:VCALENDAR
VERSION:2.0
PRODID:-//Die Gl&auml;sner-Band - ECPv6.15.20//NONSGML v1.0//EN
CALSCALE:GREGORIAN
METHOD:PUBLISH
X-WR-CALNAME:Die Gl&auml;sner-Band
X-ORIGINAL-URL:https://www.glaesner-band.de
X-WR-CALDESC:Veranstaltungen für Die Gl&auml;sner-Band
REFRESH-INTERVAL;VALUE=DURATION:PT1H
X-Robots-Tag:noindex
X-PUBLISHED-TTL:PT1H
BEGIN:VTIMEZONE
TZID:Europe/Berlin
BEGIN:DAYLIGHT
TZOFFSETFROM:+0100
TZOFFSETTO:+0200
TZNAME:CEST
DTSTART:20240331T010000
END:DAYLIGHT
BEGIN:STANDARD
TZOFFSETFROM:+0200
TZOFFSETTO:+0100
TZNAME:CET
DTSTART:20241027T010000
END:STANDARD
BEGIN:DAYLIGHT
TZOFFSETFROM:+0100
TZOFFSETTO:+0200
TZNAME:CEST
DTSTART:20250330T010000
END:DAYLIGHT
BEGIN:STANDARD
TZOFFSETFROM:+0200
TZOFFSETTO:+0100
TZNAME:CET
DTSTART:20251026T010000
END:STANDARD
BEGIN:DAYLIGHT
TZOFFSETFROM:+0100
TZOFFSETTO:+0200
TZNAME:CEST
DTSTART:20260329T010000
END:DAYLIGHT
BEGIN:STANDARD
TZOFFSETFROM:+0200
TZOFFSETTO:+0100
TZNAME:CET
DTSTART:20261025T010000
END:STANDARD
END:VTIMEZONE
BEGIN:VEVENT
DTSTART;TZID=Europe/Berlin:20250511T093000
DTEND;TZID=Europe/Berlin:20250511T110000
DTSTAMP:20260422T110819
CREATED:20241219T090000Z
LAST-MODIFIED:20250729T144056Z
UID:1508-1746955800-1746961200@www.glaesner-band.de
SUMMARY:1. Konfirmationsgottesdienst mit der Gläsner-Band
DESCRIPTION:1. Konfir­ma­ti­ons­got­tes­dienst für die Konfir­man­den der Evan­ge­li­schen Kirchen­ge­mein­de Sankt Augus­tin Nieder­pleis und Müll­dorf. Musi­ka­lisch beglei­tet von der Gläs­ner-Band. \nIm Rahmen der “Die Gläs­ner-Band and Friends” unter­stützt uns: \n\nGesang\n\nAnna
URL:https://www.glaesner-band.de/termindetails/1-konfirmationsgottesdienst-mit-der-glaesner-band/
LOCATION:Diet­rich-Bonhoef­fer-Haus Nieder­pleis\, Dietrich-Bonhoeffer-Str. 39\, Sankt Augustin\, Nordrhein-Westfalen\, 53757\, Germany
CATEGORIES:Dietrich-Bonhoeffer-Haus,Ev. Niederpleis-Mülldorf,Gottesdienste (Npls.-Mülldorf)
ATTACH;FMTTYPE=image/png:https://www.glaesner-band.de/wp-content/uploads/2025/04/Bild_Aufbau_Gottesdienst_07.png
ORGANIZER;CN="Ev. Kirchengemeinde Sankt Augustin Niederpleis und M%C3%BClldorf":MAILTO:st.augustin-niederpleis@ekir.de
END:VEVENT
BEGIN:VEVENT
DTSTART;TZID=Europe/Berlin:20250511T113000
DTEND;TZID=Europe/Berlin:20250511T130000
DTSTAMP:20260422T110819
CREATED:20241219T090000Z
LAST-MODIFIED:20250729T144111Z
UID:1528-1746963000-1746968400@www.glaesner-band.de
SUMMARY:2. Konfirmationsgottesdienst mit der Gläsner-Band
DESCRIPTION:2. Konfir­ma­ti­ons­got­tes­dienst für die Konfir­man­den der Evan­ge­li­schen Kirchen­ge­mein­de Sankt Augus­tin Nieder­pleis und Müll­dorf. Musi­ka­lisch beglei­tet von der Gläs­ner-Band. \nIm Rahmen der “Die Gläs­ner-Band and Friends” unter­stützt uns: \n\nGesang\n\nAnna
URL:https://www.glaesner-band.de/termindetails/2-konfirmationsgottesdienst-mit-der-glaesner-band/
LOCATION:Diet­rich-Bonhoef­fer-Haus Nieder­pleis\, Dietrich-Bonhoeffer-Str. 39\, Sankt Augustin\, Nordrhein-Westfalen\, 53757\, Germany
CATEGORIES:Dietrich-Bonhoeffer-Haus,Ev. Niederpleis-Mülldorf,Gottesdienste (Npls.-Mülldorf)
ATTACH;FMTTYPE=image/png:https://www.glaesner-band.de/wp-content/uploads/2025/04/Bild_Aufbau_Gottesdienst_07.png
END:VEVENT
BEGIN:VEVENT
DTSTART;TZID=Europe/Berlin:20250517T100000
DTEND;TZID=Europe/Berlin:20250517T113000
DTSTAMP:20260422T110819
CREATED:20250407T200000Z
LAST-MODIFIED:20250729T144144Z
UID:3097-1747476000-1747481400@www.glaesner-band.de
SUMMARY:1. Konfirmationsgottesdienst mit der Gläsner-Band
DESCRIPTION:1. Konfir­ma­ti­ons­got­tes­dienst für die Konfir­man­den der Evan­ge­li­schen Kirchen­ge­mein­de Sieben­ge­bir­ge in Ober­pleis. Unter­and­e­rem musi­ka­lisch beglei­tet von der Gläs­ner-Band. \nIm Rahmen der “Die Gläs­ner-Band and Friends” unter­stützt uns: \n\nGesang\n\nMaren Brecker
URL:https://www.glaesner-band.de/termindetails/1-konfirmationsgottesdienst-mit-der-glaesner-band-2/
LOCATION:Evan­ge­li­sche Kirche Ober­pleis\, Ittenbacher Str. 35\, Königswinter\, Nordrhein-Westfalen\, 53639\, Germany
CATEGORIES:Ev. Kirche Oberpleis,Ev. Siebengebirge,Gottesdienste (EKISI)
ATTACH;FMTTYPE=image/png:https://www.glaesner-band.de/wp-content/uploads/2025/04/Bild_Equipment_Schlagzeug_Altarschmuck.png
ORGANIZER;CN="Evangelische Kirchengemeinde Siebengebirge":MAILTO:siebengebirge@ekir.de
END:VEVENT
BEGIN:VEVENT
DTSTART;TZID=Europe/Berlin:20250517T120000
DTEND;TZID=Europe/Berlin:20250517T133000
DTSTAMP:20260422T110819
CREATED:20250407T200000Z
LAST-MODIFIED:20250729T144204Z
UID:3743-1747483200-1747488600@www.glaesner-band.de
SUMMARY:2. Konfirmationsgottesdienst mit der Gläsner-Band
DESCRIPTION:2. Konfir­ma­ti­ons­got­tes­dienst für die Konfir­man­den der Evan­ge­li­schen Kirchen­ge­mein­de Sieben­ge­bir­ge in Ober­pleis. Unter­and­e­rem musi­ka­lisch beglei­tet von der Gläs­ner-Band. \nIm Rahmen der “Die Gläs­ner-Band and Friends” unter­stützt uns: \n\nGesang\n\nMaren Brecker
URL:https://www.glaesner-band.de/termindetails/2-konfirmationsgottesdienst-mit-der-glaesner-band-2/
LOCATION:Evan­ge­li­sche Kirche Ober­pleis\, Ittenbacher Str. 35\, Königswinter\, Nordrhein-Westfalen\, 53639\, Germany
CATEGORIES:Ev. Kirche Oberpleis,Ev. Siebengebirge,Gottesdienste (EKISI)
ATTACH;FMTTYPE=image/png:https://www.glaesner-band.de/wp-content/uploads/2025/04/Bild_Equipment_Schlagzeug_Altarschmuck.png
ORGANIZER;CN="Evangelische Kirchengemeinde Siebengebirge":MAILTO:siebengebirge@ekir.de
END:VEVENT
BEGIN:VEVENT
DTSTART;TZID=Europe/Berlin:20250518T103000
DTEND;TZID=Europe/Berlin:20250518T120000
DTSTAMP:20260422T110819
CREATED:20250216T090000Z
LAST-MODIFIED:20250729T144128Z
UID:2937-1747564200-1747569600@www.glaesner-band.de
SUMMARY:Konfirmationsgottesdienst mit der Gläsner-Band
DESCRIPTION:Konfir­ma­ti­ons­got­tes­dienst für die Konfir­man­den der Evan­ge­li­schen Kirchen­ge­mein­de Sieben­ge­bir­ge in Itten­bach. Unter­and­e­rem musi­ka­lisch beglei­tet von der Gläs­ner-Band. \nIm Rahmen der “Die Gläs­ner-Band and Friends” unter­stützt uns: \n\nGesang\n\nMaren Brecker
URL:https://www.glaesner-band.de/termindetails/konfirmationsgottesdienst-mit-der-glaesner-band/
LOCATION:Aufer­ste­hungs­kir­che Itten­bach\, Kantering 11\, Königswinter\, Nordrhein-Westfalen\, 53639\, Germany
CATEGORIES:Auferstehungskirche,Ev. Siebengebirge,Gottesdienste (EKISI)
ATTACH;FMTTYPE=image/png:https://www.glaesner-band.de/wp-content/uploads/2025/04/Bild_Aufbau_Gottesdienst_05.png
ORGANIZER;CN="Evangelische Kirchengemeinde Siebengebirge":MAILTO:siebengebirge@ekir.de
END:VEVENT
END:VCALENDAR